BEGIN:VCALENDAR
VERSION:2.0
PRODID:-//PortsmouthNH.com - ECPv6.15.13//NONSGML v1.0//EN
CALSCALE:GREGORIAN
METHOD:PUBLISH
X-WR-CALNAME:PortsmouthNH.com
X-ORIGINAL-URL:https://www.portsmouthnh.com
X-WR-CALDESC:Events for PortsmouthNH.com
REFRESH-INTERVAL;VALUE=DURATION:PT1H
X-Robots-Tag:noindex
X-PUBLISHED-TTL:PT1H
BEGIN:VTIMEZONE
TZID:America/New_York
BEGIN:DAYLIGHT
TZOFFSETFROM:-0500
TZOFFSETTO:-0400
TZNAME:EDT
DTSTART:20230312T070000
END:DAYLIGHT
BEGIN:STANDARD
TZOFFSETFROM:-0400
TZOFFSETTO:-0500
TZNAME:EST
DTSTART:20231105T060000
END:STANDARD
BEGIN:DAYLIGHT
TZOFFSETFROM:-0500
TZOFFSETTO:-0400
TZNAME:EDT
DTSTART:20240310T070000
END:DAYLIGHT
BEGIN:STANDARD
TZOFFSETFROM:-0400
TZOFFSETTO:-0500
TZNAME:EST
DTSTART:20241103T060000
END:STANDARD
BEGIN:DAYLIGHT
TZOFFSETFROM:-0500
TZOFFSETTO:-0400
TZNAME:EDT
DTSTART:20250309T070000
END:DAYLIGHT
BEGIN:STANDARD
TZOFFSETFROM:-0400
TZOFFSETTO:-0500
TZNAME:EST
DTSTART:20251102T060000
END:STANDARD
END:VTIMEZONE
BEGIN:VEVENT
DTSTART;TZID=America/New_York:20240504T100000
DTEND;TZID=America/New_York:20240504T170000
DTSTAMP:20260424T103008
CREATED:20240502T174128Z
LAST-MODIFIED:20240502T174128Z
UID:162580-1714816800-1714842000@www.portsmouthnh.com
SUMMARY:Maine Pottery Tour Pottery sale and plant swap
DESCRIPTION:Come to the Red Door  Pottery Studio\, just 1 mile from downtown Portsmouth on Saturday and Sunday. \nBeautiful items at all price ranges will be available for Mother’s Day and wedding gifts or for yourself.  \nA raffle for a free private class will be held.
URL:https://www.portsmouthnh.com/event/maine-pottery-tour-pottery-sale-and-plant-swap/
LOCATION:The Red Door Pottery Studio\, 44 Government St.\, Kittery\, ME\, 03904\, United States
CATEGORIES:Art Events,Fairs & Festivals
ATTACH;FMTTYPE=image/jpeg:https://www.portsmouthnh.com/wp-content/uploads/2024/05/MTP-w.-Plant-Swap-2024-1.jpeg
GEO:43.085617;-70.7471076
X-APPLE-STRUCTURED-LOCATION;VALUE=URI;X-ADDRESS=The Red Door Pottery Studio 44 Government St. Kittery ME 03904 United States;X-APPLE-RADIUS=500;X-TITLE=44 Government St.:geo:-70.7471076,43.085617
END:VEVENT
END:VCALENDAR