BEGIN:VCALENDAR
VERSION:2.0
PRODID:-//PortsmouthNH.com - ECPv6.15.13//NONSGML v1.0//EN
CALSCALE:GREGORIAN
METHOD:PUBLISH
X-WR-CALNAME:PortsmouthNH.com
X-ORIGINAL-URL:https://www.portsmouthnh.com
X-WR-CALDESC:Events for PortsmouthNH.com
REFRESH-INTERVAL;VALUE=DURATION:PT1H
X-Robots-Tag:noindex
X-PUBLISHED-TTL:PT1H
BEGIN:VTIMEZONE
TZID:America/New_York
BEGIN:DAYLIGHT
TZOFFSETFROM:-0500
TZOFFSETTO:-0400
TZNAME:EDT
DTSTART:20240310T070000
END:DAYLIGHT
BEGIN:STANDARD
TZOFFSETFROM:-0400
TZOFFSETTO:-0500
TZNAME:EST
DTSTART:20241103T060000
END:STANDARD
BEGIN:DAYLIGHT
TZOFFSETFROM:-0500
TZOFFSETTO:-0400
TZNAME:EDT
DTSTART:20250309T070000
END:DAYLIGHT
BEGIN:STANDARD
TZOFFSETFROM:-0400
TZOFFSETTO:-0500
TZNAME:EST
DTSTART:20251102T060000
END:STANDARD
BEGIN:DAYLIGHT
TZOFFSETFROM:-0500
TZOFFSETTO:-0400
TZNAME:EDT
DTSTART:20260308T070000
END:DAYLIGHT
BEGIN:STANDARD
TZOFFSETFROM:-0400
TZOFFSETTO:-0500
TZNAME:EST
DTSTART:20261101T060000
END:STANDARD
END:VTIMEZONE
BEGIN:VEVENT
DTSTART;TZID=America/New_York:20250801T170000
DTEND;TZID=America/New_York:20250801T200000
DTSTAMP:20260421T042938
CREATED:20250716T180212Z
LAST-MODIFIED:20250716T180212Z
UID:213237-1754067600-1754078400@www.portsmouthnh.com
SUMMARY:"Fresh Takes" at 3S Artspace
DESCRIPTION:Fresh Takes: Celebrating a Decade of Contemporary Voices\nat 3S Artspace\nExhibit: August 1 – September 28\, 2025\nOpening Reception / Meet the Artists / Art ‘Round Town: Friday\, August 1 / 5 – 8pm \nTo mark our 10th anniversary\, 3S Artspace proudly presents —an exhibition celebrating a curated group of artists who have shaped our Gallery and have\, we hope\, found inspiration and momentum here since we opened our doors for full-time operations in 2015. \nThis exhibition is both reflection and celebration: a dynamic snapshot of the bold\, varied\, and ever-evolving practices that have enlivened our space and deepened our connection to community over the past decade. Through their distinct voices and visions\, these artists have sparked dialogue\, taken risks\, and invited us to grow alongside them. \nWe invite you to revisit these voices—some familiar\, some transformed—and explore this living archive of contemporary expression\, experimentation\, and creative exchange. Accompanying each work are personal reflections from the artists\, offering insight into their evolving practices and the paths they’ve taken since exhibiting at 3S. \nFeatured Artists:  \nAdria Arch • Rachelle Beaudoin • Peter Bruun • Rachel Burgess • Scott Chasse • Sammy Chong • Roger Clark Miller • Kate Conlon • Kenley Darling • Drew DiPasquale • Thomas Dupere • Auguste Elder • Pat Falco • Michael Hambouz • Nancy Grace Horton • Susan R. Johnson • Eric Katzman • Tatana Kellner • Rebecca Klementovich • Dustan Knight • Justin Levesque • Eric MacDonald • Denise Manseau • Dylan Metrano • Heather Morgan • Ashley Norman • Dayna Pastura-Talbot • Rachel Rampleman • Ryan Rasmussen • Kathleen Robbins • Mia Rollins • Jennifer Seo • Damion Silver • James Tucker • Lana Vogestad • McKinley Wallace \n—-\n3S Artspace is supported in part by grants from the New Hampshire State Council on the Arts and the National Endowment for the Arts; the New Hampshire Charitable Foundation and NHCF’s Geoffrey E. Clark and Martha Fuller Clark Fund; and Little Bay Fund. \nThank you to our lead sponsors: AC Hotel Portsmouth\, The Brook\, The Kane Company/Tidemark\, Katzman Contemporary Projects\, MacEdge\, Raka\, Sheraton Portsmouth Harborside Hotel.
URL:https://www.portsmouthnh.com/event/fresh-takes-at-3s-artspace/
LOCATION:3S Artspace\, 319 Vaughan St.\, Portsmouth\, NH\, 03801
CATEGORIES:Art Exhibits,Art Events
ATTACH;FMTTYPE=image/jpeg:https://www.portsmouthnh.com/wp-content/uploads/2025/07/213237_image_517403090_1162076515957289_7683710519192122815_n.jpg
END:VEVENT
END:VCALENDAR