BEGIN:VCALENDAR
VERSION:2.0
PRODID:-//PortsmouthNH.com - ECPv6.15.13//NONSGML v1.0//EN
CALSCALE:GREGORIAN
METHOD:PUBLISH
X-WR-CALNAME:PortsmouthNH.com
X-ORIGINAL-URL:https://www.portsmouthnh.com
X-WR-CALDESC:Events for PortsmouthNH.com
REFRESH-INTERVAL;VALUE=DURATION:PT1H
X-Robots-Tag:noindex
X-PUBLISHED-TTL:PT1H
BEGIN:VTIMEZONE
TZID:America/New_York
BEGIN:DAYLIGHT
TZOFFSETFROM:-0500
TZOFFSETTO:-0400
TZNAME:EDT
DTSTART:20240310T070000
END:DAYLIGHT
BEGIN:STANDARD
TZOFFSETFROM:-0400
TZOFFSETTO:-0500
TZNAME:EST
DTSTART:20241103T060000
END:STANDARD
BEGIN:DAYLIGHT
TZOFFSETFROM:-0500
TZOFFSETTO:-0400
TZNAME:EDT
DTSTART:20250309T070000
END:DAYLIGHT
BEGIN:STANDARD
TZOFFSETFROM:-0400
TZOFFSETTO:-0500
TZNAME:EST
DTSTART:20251102T060000
END:STANDARD
BEGIN:DAYLIGHT
TZOFFSETFROM:-0500
TZOFFSETTO:-0400
TZNAME:EDT
DTSTART:20260308T070000
END:DAYLIGHT
BEGIN:STANDARD
TZOFFSETFROM:-0400
TZOFFSETTO:-0500
TZNAME:EST
DTSTART:20261101T060000
END:STANDARD
END:VTIMEZONE
BEGIN:VEVENT
DTSTART;TZID=America/New_York:20250910T190000
DTEND;TZID=America/New_York:20250910T190000
DTSTAMP:20260424T115528
CREATED:20250523T142626Z
LAST-MODIFIED:20250523T142626Z
UID:206852-1757530800-1757530800@www.portsmouthnh.com
SUMMARY:Dan Brown with "The Secret of Secrets" (Part of Seacoast LitFest) at The Music Hall
DESCRIPTION:FEATURED KEYNOTE SPEAKER AT SEACOAST LITFEST \nhttps://www.themusichall.org/seacoast-litfest/ \nOne of the best-selling authors of all time\, Brown will appear live with his brand-new novel\, The Secret of Secrets — making Portsmouth the second stop on his exclusive world-wide book tour. \nWith over 200 million copies sold worldwide\, Brown’s novels have been published in 57 languages\, ignited global conversations\, and inspired blockbuster films starring Tom Hanks. From The Da Vinci Code to Angels & Demons\, his works have defined the modern thriller. \nThis will be a red-carpet evening of literary excitement — a hometown celebration for one of the world’s most widely read authors and a once-in-a-generation moment for the Seacoast. Join us as we welcome Dan Brown back to the very stage where his journey began — for an unforgettable night of storytelling\, intrigue\, and celebration. \nABOUT SEACOAST LITFEST \nCelebrating 20 years of Writers On A New England Stage \nPresented in partnership with The Music Hall & New Hampshire Public Radio \nhttps://www.themusichall.org/seacoast-litfest/ \nAn inspiring multi-day celebration from two of the state’s leading voices in storytelling and culture\, the Seacoast LitFest brings together bestselling authors with curious readers of all ages. \nINDIVIDUAL TICKETS& PASSES AVAILABLE. \n—\nPRESENTED IN PARTNERSHIP WITH\nThe Music Hall and New Hampshire Public Radio \nPRESENTING SPONSOR\nAuger Building Company
URL:https://www.portsmouthnh.com/event/dan-brown-with-the-secret-of-secrets-part-of-seacoast-litfest-at-the-music-hall/
LOCATION:The Music Hall
CATEGORIES:Books & Poetry
ATTACH;FMTTYPE=image/jpeg:https://www.portsmouthnh.com/wp-content/uploads/2025/05/206852_image_499525699_1105532931609221_1566950335508964228_n.jpg
END:VEVENT
END:VCALENDAR